BEGIN:VCALENDAR
VERSION:2.0
PRODID:spatie/icalendar-generator
DESCRIPTION:Events from Union Congregational Church
X-WR-CALDESC:Events from Union Congregational Church
REFRESH-INTERVAL;VALUE=DURATION:PT1440M
X-PUBLISHED-TTL:PT1440M
BEGIN:VTIMEZONE
TZID:America/New_York
BEGIN:STANDARD
DTSTART:20251102T020000Z
TZOFFSETFROM:-0400
TZOFFSETTO:-0500
END:STANDARD
BEGIN:DAYLIGHT
DTSTART:20260308T020000Z
TZOFFSETFROM:-0500
TZOFFSETTO:-0400
END:DAYLIGHT
BEGIN:STANDARD
DTSTART:20261101T020000Z
TZOFFSETFROM:-0400
TZOFFSETTO:-0500
END:STANDARD
END:VTIMEZONE
BEGIN:VTIMEZONE
TZID:UTC
BEGIN:STANDARD
DTSTART:20250727T040502Z
TZOFFSETFROM:+0000
TZOFFSETTO:+0000
END:STANDARD
END:VTIMEZONE
BEGIN:VEVENT
UID:1970-51
DTSTAMP:20260423T040502Z
SUMMARY:Andrew's Basket Food Pantry
LOCATION:
ORGANIZER;CN=root:MAILTO:uccatv@gmail.com
RRULE:FREQ=MONTHLY;BYDAY=1WE;UNTIL=20261202T000000Z
DTSTART;TZID=America/New_York:20260603T090000
DTEND;TZID=America/New_York:20260603T120000
X-ALT-DESC;FMTTYPE=TEXT/HTML:
CATEGORIES:Closure
URL;VALUE=URI:https://unioncongregationaltavares.org/mc-events/andrews-bask
 et-food-pantry-2/?mc_id=1970
METHOD:PUBLISH
END:VEVENT
END:VCALENDAR