BEGIN:VCALENDAR
VERSION:2.0
PRODID:spatie/icalendar-generator
DESCRIPTION:Events from Union Congregational Church
X-WR-CALDESC:Events from Union Congregational Church
REFRESH-INTERVAL;VALUE=DURATION:PT1440M
X-PUBLISHED-TTL:PT1440M
BEGIN:VTIMEZONE
TZID:America/New_York
BEGIN:STANDARD
DTSTART:20251102T020000Z
TZOFFSETFROM:-0400
TZOFFSETTO:-0500
END:STANDARD
BEGIN:DAYLIGHT
DTSTART:20260308T020000Z
TZOFFSETFROM:-0500
TZOFFSETTO:-0400
END:DAYLIGHT
BEGIN:STANDARD
DTSTART:20261101T020000Z
TZOFFSETFROM:-0400
TZOFFSETTO:-0500
END:STANDARD
END:VTIMEZONE
BEGIN:VTIMEZONE
TZID:UTC
BEGIN:STANDARD
DTSTART:20250726T225553Z
TZOFFSETFROM:+0000
TZOFFSETTO:+0000
END:STANDARD
END:VTIMEZONE
BEGIN:VEVENT
UID:2128-54
DTSTAMP:20260422T225553Z
SUMMARY:AA and Alanon
LOCATION:
ORGANIZER;CN=root:MAILTO:uccatv@gmail.com
RRULE:FREQ=WEEKLY;UNTIL=20271230T000000Z
DTSTART;TZID=America/New_York:20260611T190000
DTEND;TZID=America/New_York:20260611T200000
X-ALT-DESC;FMTTYPE=TEXT/HTML:
CATEGORIES:Closure
URL;VALUE=URI:https://unioncongregationaltavares.org/mc-events/aa-and-alano
 n/?mc_id=2128
METHOD:PUBLISH
END:VEVENT
END:VCALENDAR